BEGIN:VCALENDAR
VERSION:2.0
PRODID:-//Center for Spiritual Living Grand Junction - ECPv6.15.20//NONSGML v1.0//EN
CALSCALE:GREGORIAN
METHOD:PUBLISH
X-WR-CALNAME:Center for Spiritual Living Grand Junction
X-ORIGINAL-URL:https://www.cslgj.org
X-WR-CALDESC:Events for Center for Spiritual Living Grand Junction
REFRESH-INTERVAL;VALUE=DURATION:PT1H
X-Robots-Tag:noindex
X-PUBLISHED-TTL:PT1H
BEGIN:VTIMEZONE
TZID:America/Denver
BEGIN:DAYLIGHT
TZOFFSETFROM:-0700
TZOFFSETTO:-0600
TZNAME:MDT
DTSTART:20230312T090000
END:DAYLIGHT
BEGIN:STANDARD
TZOFFSETFROM:-0600
TZOFFSETTO:-0700
TZNAME:MST
DTSTART:20231105T080000
END:STANDARD
BEGIN:DAYLIGHT
TZOFFSETFROM:-0700
TZOFFSETTO:-0600
TZNAME:MDT
DTSTART:20240310T090000
END:DAYLIGHT
BEGIN:STANDARD
TZOFFSETFROM:-0600
TZOFFSETTO:-0700
TZNAME:MST
DTSTART:20241103T080000
END:STANDARD
BEGIN:DAYLIGHT
TZOFFSETFROM:-0700
TZOFFSETTO:-0600
TZNAME:MDT
DTSTART:20250309T090000
END:DAYLIGHT
BEGIN:STANDARD
TZOFFSETFROM:-0600
TZOFFSETTO:-0700
TZNAME:MST
DTSTART:20251102T080000
END:STANDARD
END:VTIMEZONE
BEGIN:VEVENT
DTSTART;TZID=America/Denver:20240918T183000
DTEND;TZID=America/Denver:20240918T200000
DTSTAMP:20260425T162818
CREATED:20240914T235209Z
LAST-MODIFIED:20240914T235209Z
UID:10000422-1726684200-1726689600@www.cslgj.org
SUMMARY:Courageous Conversations - Group Discussion
DESCRIPTION:Courageous Conversations \nWednesday\, September 18th from 6:30 – 8:00 pm \nIt is with great enthusiasm that we return to evenings of Courageous Conversations. The purpose of these gatherings is to share our thoughts on controversial topics in a safe space and to learn from one another. The perspective you take is neither right nor wrong\, good nor bad…your opinion is valid and matters. Please join us.\nLed by Candy Stephens\, RScP and Deb Smith\, RScPE.\nLove offering
URL:https://www.cslgj.org/event/courageous-conversations-group-discussion/
LOCATION:CSLGJ\, 491 Sparn Street\, Grand Junction\, CO\, 81501\, United States
CATEGORIES:Community Events
END:VEVENT
END:VCALENDAR