BEGIN:VCALENDAR
VERSION:2.0
PRODID:-//Center for Spiritual Living Grand Junction - ECPv6.15.20//NONSGML v1.0//EN
CALSCALE:GREGORIAN
METHOD:PUBLISH
X-ORIGINAL-URL:https://www.cslgj.org
X-WR-CALDESC:Events for Center for Spiritual Living Grand Junction
REFRESH-INTERVAL;VALUE=DURATION:PT1H
X-Robots-Tag:noindex
X-PUBLISHED-TTL:PT1H
BEGIN:VTIMEZONE
TZID:America/Denver
BEGIN:DAYLIGHT
TZOFFSETFROM:-0700
TZOFFSETTO:-0600
TZNAME:MDT
DTSTART:20230312T090000
END:DAYLIGHT
BEGIN:STANDARD
TZOFFSETFROM:-0600
TZOFFSETTO:-0700
TZNAME:MST
DTSTART:20231105T080000
END:STANDARD
BEGIN:DAYLIGHT
TZOFFSETFROM:-0700
TZOFFSETTO:-0600
TZNAME:MDT
DTSTART:20240310T090000
END:DAYLIGHT
BEGIN:STANDARD
TZOFFSETFROM:-0600
TZOFFSETTO:-0700
TZNAME:MST
DTSTART:20241103T080000
END:STANDARD
BEGIN:DAYLIGHT
TZOFFSETFROM:-0700
TZOFFSETTO:-0600
TZNAME:MDT
DTSTART:20250309T090000
END:DAYLIGHT
BEGIN:STANDARD
TZOFFSETFROM:-0600
TZOFFSETTO:-0700
TZNAME:MST
DTSTART:20251102T080000
END:STANDARD
END:VTIMEZONE
BEGIN:VEVENT
DTSTART;TZID=America/Denver:20241105T113000
DTEND;TZID=America/Denver:20241105T123000
DTSTAMP:20260425T135655
CREATED:20241109T225424Z
LAST-MODIFIED:20241109T225425Z
UID:10000397-1730806200-1730809800@www.cslgj.org
SUMMARY:Not Going Quietly - 1st Tuesday
DESCRIPTION:Meets Tuesdays\, details below \nA space of empowerment\, energy\, grace\, community\, and wisdom for individuals who are at least 60 years young! It’s a great time to connect! \n1st Tuesday\, 11:30am: Meet at Main Street Bagels for a Dutch Treat brunch and conversation. \nMain Street Bagels: 6th and Main
URL:https://www.cslgj.org/event/not-going-quietly-1st-tuesday-2/
LOCATION:Main Street Bagels\, 559 Main St\, Grand Junction\, 81501\, United States
CATEGORIES:Community Events
ATTACH;FMTTYPE=image/jpeg:https://www.cslgj.org/wp-content/uploads/2024/07/unnamed-4.jpg
ORGANIZER;CN="CSL Grand Junction":MAILTO:admin@cslgrandjunction.org
END:VEVENT
END:VCALENDAR