BEGIN:VCALENDAR
VERSION:2.0
PRODID:-//Center for Spiritual Living Grand Junction - ECPv6.15.20//NONSGML v1.0//EN
CALSCALE:GREGORIAN
METHOD:PUBLISH
X-ORIGINAL-URL:https://www.cslgj.org
X-WR-CALDESC:Events for Center for Spiritual Living Grand Junction
REFRESH-INTERVAL;VALUE=DURATION:PT1H
X-Robots-Tag:noindex
X-PUBLISHED-TTL:PT1H
BEGIN:VTIMEZONE
TZID:UTC
BEGIN:STANDARD
TZOFFSETFROM:+0000
TZOFFSETTO:+0000
TZNAME:UTC
DTSTART:20230101T000000
END:STANDARD
END:VTIMEZONE
BEGIN:VTIMEZONE
TZID:America/Denver
BEGIN:DAYLIGHT
TZOFFSETFROM:-0700
TZOFFSETTO:-0600
TZNAME:MDT
DTSTART:20230312T090000
END:DAYLIGHT
BEGIN:STANDARD
TZOFFSETFROM:-0600
TZOFFSETTO:-0700
TZNAME:MST
DTSTART:20231105T080000
END:STANDARD
BEGIN:DAYLIGHT
TZOFFSETFROM:-0700
TZOFFSETTO:-0600
TZNAME:MDT
DTSTART:20240310T090000
END:DAYLIGHT
BEGIN:STANDARD
TZOFFSETFROM:-0600
TZOFFSETTO:-0700
TZNAME:MST
DTSTART:20241103T080000
END:STANDARD
BEGIN:DAYLIGHT
TZOFFSETFROM:-0700
TZOFFSETTO:-0600
TZNAME:MDT
DTSTART:20250309T090000
END:DAYLIGHT
BEGIN:STANDARD
TZOFFSETFROM:-0600
TZOFFSETTO:-0700
TZNAME:MST
DTSTART:20251102T080000
END:STANDARD
END:VTIMEZONE
BEGIN:VEVENT
DTSTART;TZID=UTC:20241201T094500
DTEND;TZID=UTC:20241201T101000
DTSTAMP:20260425T073517
CREATED:20241111T235535Z
LAST-MODIFIED:20241111T235535Z
UID:10000663-1733046300-1733047800@www.cslgj.org
SUMMARY:Meditation Service at 9:45 am - In Person and Livestreamed
DESCRIPTION:Meditation Service led by Patty Orin\, RScP \nIn Person at CSL Grand Junction located at 491 Sparn Street \nVimeo Livestream link:  https://vimeo.com/event/1232379 \n 
URL:https://www.cslgj.org/event/meditation-service-at-945-am-in-person-and-livestreamed-8/
LOCATION:CSLGJ\, 491 Sparn Street\, Grand Junction\, CO\, 81501\, United States
CATEGORIES:Meditation Service
ORGANIZER;CN="CSL Grand Junction":MAILTO:admin@cslgrandjunction.org
END:VEVENT
BEGIN:VEVENT
DTSTART;TZID=America/Denver:20241201T103000
DTEND;TZID=America/Denver:20241201T113000
DTSTAMP:20260425T073517
CREATED:20241111T234907Z
LAST-MODIFIED:20241111T234907Z
UID:10000660-1733049000-1733052600@www.cslgj.org
SUMMARY:Sunday Service - Jan & JD with Message & Music
DESCRIPTION:Further details coming!!
URL:https://www.cslgj.org/event/sunday-service-jan-jd-with-message-music/
LOCATION:CSLGJ\, 491 Sparn Street\, Grand Junction\, CO\, 81501\, United States
CATEGORIES:Sunday Service
ORGANIZER;CN="CSL Grand Junction":MAILTO:admin@cslgrandjunction.org
END:VEVENT
BEGIN:VEVENT
DTSTART;TZID=America/Denver:20241201T113000
DTEND;TZID=America/Denver:20241201T124500
DTSTAMP:20260425T073517
CREATED:20241111T235049Z
LAST-MODIFIED:20241111T235049Z
UID:10000661-1733052600-1733057100@www.cslgj.org
SUMMARY:Potluck following Sunday Service
DESCRIPTION:Potluck…Food…Fun!
URL:https://www.cslgj.org/event/potluck-following-sunday-service-2/
LOCATION:CSLGJ\, 491 Sparn Street\, Grand Junction\, CO\, 81501\, United States
CATEGORIES:Potlucks
ORGANIZER;CN="CSL Grand Junction":MAILTO:admin@cslgrandjunction.org
END:VEVENT
BEGIN:VEVENT
DTSTART;TZID=America/Denver:20241201T113000
DTEND;TZID=America/Denver:20241201T124500
DTSTAMP:20260425T073517
CREATED:20250508T210649Z
LAST-MODIFIED:20250508T210649Z
UID:10001128-1733052600-1733057100@www.cslgj.org
SUMMARY:Potluck following Sunday Service
DESCRIPTION:Potluck…Food…Fun! \nFollowing Sunday Service
URL:https://www.cslgj.org/event/potluck-following-sunday-service-3/
LOCATION:CSLGJ\, 491 Sparn Street\, Grand Junction\, CO\, 81501\, United States
CATEGORIES:Potlucks
ORGANIZER;CN="CSL Grand Junction":MAILTO:admin@cslgrandjunction.org
END:VEVENT
BEGIN:VEVENT
DTSTART;TZID=America/Denver:20241201T123000
DTEND;TZID=America/Denver:20241201T133000
DTSTAMP:20260425T073517
CREATED:20241111T235258Z
LAST-MODIFIED:20241111T235258Z
UID:10000662-1733056200-1733059800@www.cslgj.org
SUMMARY:Concert with Jan & JD!!
DESCRIPTION:More information coming!!
URL:https://www.cslgj.org/event/concert-with-jan-jd/
LOCATION:CSLGJ\, 491 Sparn Street\, Grand Junction\, CO\, 81501\, United States
CATEGORIES:Community Events,Music
ORGANIZER;CN="CSL Grand Junction":MAILTO:admin@cslgrandjunction.org
END:VEVENT
END:VCALENDAR