BEGIN:VCALENDAR
VERSION:2.0
PRODID:-//Center for Spiritual Living Grand Junction - ECPv6.15.20//NONSGML v1.0//EN
CALSCALE:GREGORIAN
METHOD:PUBLISH
X-WR-CALNAME:Center for Spiritual Living Grand Junction
X-ORIGINAL-URL:https://www.cslgj.org
X-WR-CALDESC:Events for Center for Spiritual Living Grand Junction
REFRESH-INTERVAL;VALUE=DURATION:PT1H
X-Robots-Tag:noindex
X-PUBLISHED-TTL:PT1H
BEGIN:VTIMEZONE
TZID:America/Denver
BEGIN:DAYLIGHT
TZOFFSETFROM:-0700
TZOFFSETTO:-0600
TZNAME:MDT
DTSTART:20240310T090000
END:DAYLIGHT
BEGIN:STANDARD
TZOFFSETFROM:-0600
TZOFFSETTO:-0700
TZNAME:MST
DTSTART:20241103T080000
END:STANDARD
BEGIN:DAYLIGHT
TZOFFSETFROM:-0700
TZOFFSETTO:-0600
TZNAME:MDT
DTSTART:20250309T090000
END:DAYLIGHT
BEGIN:STANDARD
TZOFFSETFROM:-0600
TZOFFSETTO:-0700
TZNAME:MST
DTSTART:20251102T080000
END:STANDARD
BEGIN:DAYLIGHT
TZOFFSETFROM:-0700
TZOFFSETTO:-0600
TZNAME:MDT
DTSTART:20260308T090000
END:DAYLIGHT
BEGIN:STANDARD
TZOFFSETFROM:-0600
TZOFFSETTO:-0700
TZNAME:MST
DTSTART:20261101T080000
END:STANDARD
END:VTIMEZONE
BEGIN:VEVENT
DTSTART;TZID=America/Denver:20250107T100000
DTEND;TZID=America/Denver:20250107T120000
DTSTAMP:20260423T111520
CREATED:20250114T064504Z
LAST-MODIFIED:20250114T065709Z
UID:10000749-1736244000-1736251200@www.cslgj.org
SUMMARY:Pack Lunches for Grand Junction Mutual Aid!
DESCRIPTION:Pack Lunches for Grand Junction Mutual Aid! \nTuesday\, January 7 from 10:00 to Noon \nHelp provide 50 sack lunches for GJ Mutual Aid.  We pack on the first Tuesday of each month and then deliver to GJ Mutual Aid. \nSign up in the lobby.
URL:https://www.cslgj.org/event/pack-lunches-for-grand-junction-mutual-aid/
CATEGORIES:Community Events
END:VEVENT
BEGIN:VEVENT
DTSTART;TZID=America/Denver:20250107T113000
DTEND;TZID=America/Denver:20250107T123000
DTSTAMP:20260423T111520
CREATED:20250114T055053Z
LAST-MODIFIED:20250114T055053Z
UID:10000674-1736249400-1736253000@www.cslgj.org
SUMMARY:Not Going Quietly - 1st Tuesday
DESCRIPTION:Meets Tuesdays\, details below \nA space of empowerment\, energy\, grace\, community\, and wisdom for individuals who are at least 60 years young! It’s a great time to connect! \n1st Tuesday\, 11:30am: Meet at Main Street Bagels for a Dutch Treat brunch and conversation. \nMain Street Bagels: 6th and Main
URL:https://www.cslgj.org/event/not-going-quietly-1st-tuesday/
LOCATION:Main Street Bagels\, 559 Main St\, Grand Junction\, 81501\, United States
CATEGORIES:Community Events
ATTACH;FMTTYPE=image/jpeg:https://www.cslgj.org/wp-content/uploads/2024/07/unnamed-4.jpg
ORGANIZER;CN="CSL Grand Junction":MAILTO:admin@cslgrandjunction.org
END:VEVENT
END:VCALENDAR