BEGIN:VCALENDAR
VERSION:2.0
PRODID:-//Center for Spiritual Living Grand Junction - ECPv6.15.20//NONSGML v1.0//EN
CALSCALE:GREGORIAN
METHOD:PUBLISH
X-ORIGINAL-URL:https://www.cslgj.org
X-WR-CALDESC:Events for Center for Spiritual Living Grand Junction
REFRESH-INTERVAL;VALUE=DURATION:PT1H
X-Robots-Tag:noindex
X-PUBLISHED-TTL:PT1H
BEGIN:VTIMEZONE
TZID:America/Denver
BEGIN:DAYLIGHT
TZOFFSETFROM:-0700
TZOFFSETTO:-0600
TZNAME:MDT
DTSTART:20240310T090000
END:DAYLIGHT
BEGIN:STANDARD
TZOFFSETFROM:-0600
TZOFFSETTO:-0700
TZNAME:MST
DTSTART:20241103T080000
END:STANDARD
BEGIN:DAYLIGHT
TZOFFSETFROM:-0700
TZOFFSETTO:-0600
TZNAME:MDT
DTSTART:20250309T090000
END:DAYLIGHT
BEGIN:STANDARD
TZOFFSETFROM:-0600
TZOFFSETTO:-0700
TZNAME:MST
DTSTART:20251102T080000
END:STANDARD
BEGIN:DAYLIGHT
TZOFFSETFROM:-0700
TZOFFSETTO:-0600
TZNAME:MDT
DTSTART:20260308T090000
END:DAYLIGHT
BEGIN:STANDARD
TZOFFSETFROM:-0600
TZOFFSETTO:-0700
TZNAME:MST
DTSTART:20261101T080000
END:STANDARD
END:VTIMEZONE
BEGIN:VEVENT
DTSTART;TZID=America/Denver:20250122T173000
DTEND;TZID=America/Denver:20250122T190000
DTSTAMP:20260423T111930
CREATED:20250114T062432Z
LAST-MODIFIED:20250114T062432Z
UID:10000743-1737567000-1737572400@www.cslgj.org
SUMMARY:Crystal Singing Bowls with Kate Fotopoulos & Bibba Payson
DESCRIPTION:SOUND HEALING MEDITATION\nWednesday\, January 25 at 5:30 to 7:00 pm\nAre you ready to let go and relax?  Allow the frequencies of the crystal and Tibetan bowls to lift you into a higher\, more relaxed state of consciousness. Bring a snack or a sack lunch to eat between service and bowls.\nFacilitated by Kate Fotopoulos and Bibba Payson.\nSuggested love offering: $20
URL:https://www.cslgj.org/event/crystal-singing-bowls-with-kate-fotopoulos-bibba-payson-2/
CATEGORIES:Community Events
ORGANIZER;CN="CSL Grand Junction":MAILTO:admin@cslgrandjunction.org
END:VEVENT
END:VCALENDAR