BEGIN:VCALENDAR
VERSION:2.0
PRODID:-//Center for Spiritual Living Grand Junction - ECPv6.15.20//NONSGML v1.0//EN
CALSCALE:GREGORIAN
METHOD:PUBLISH
X-ORIGINAL-URL:https://www.cslgj.org
X-WR-CALDESC:Events for Center for Spiritual Living Grand Junction
REFRESH-INTERVAL;VALUE=DURATION:PT1H
X-Robots-Tag:noindex
X-PUBLISHED-TTL:PT1H
BEGIN:VTIMEZONE
TZID:America/Denver
BEGIN:DAYLIGHT
TZOFFSETFROM:-0700
TZOFFSETTO:-0600
TZNAME:MDT
DTSTART:20240310T090000
END:DAYLIGHT
BEGIN:STANDARD
TZOFFSETFROM:-0600
TZOFFSETTO:-0700
TZNAME:MST
DTSTART:20241103T080000
END:STANDARD
BEGIN:DAYLIGHT
TZOFFSETFROM:-0700
TZOFFSETTO:-0600
TZNAME:MDT
DTSTART:20250309T090000
END:DAYLIGHT
BEGIN:STANDARD
TZOFFSETFROM:-0600
TZOFFSETTO:-0700
TZNAME:MST
DTSTART:20251102T080000
END:STANDARD
BEGIN:DAYLIGHT
TZOFFSETFROM:-0700
TZOFFSETTO:-0600
TZNAME:MDT
DTSTART:20260308T090000
END:DAYLIGHT
BEGIN:STANDARD
TZOFFSETFROM:-0600
TZOFFSETTO:-0700
TZNAME:MST
DTSTART:20261101T080000
END:STANDARD
END:VTIMEZONE
BEGIN:VEVENT
DTSTART;TZID=America/Denver:20250309T103000
DTEND;TZID=America/Denver:20250309T113000
DTSTAMP:20260423T084349
CREATED:20250306T211822Z
LAST-MODIFIED:20250306T211822Z
UID:10000900-1741516200-1741519800@www.cslgj.org
SUMMARY:Sunday Service - "The Still Small Voice" with Rev. Anna Scott
DESCRIPTION:“Letting Go:  “The Still Small Voice” with Rev. Anna Scott \nAnnual Theme: Rising Higher\, Growing Deeper\nMonthly Theme: The Flow of Coming and Going\nPrayer Practitioner in Service:\nLive Musicians:  Barbara Bellamy\, Hugh Plumleigh and the Fantastic CSL Music Team \nSpecial Music:  Blake Naranjo \nVimeo link: https://vimeo.com/event/1232379 \nPast Service Videos: https://vimeo.com/cslgj/videos
URL:https://www.cslgj.org/event/sunday-service-the-still-small-voice-with-rev-anna-scott/
LOCATION:CSLGJ\, 491 Sparn Street\, Grand Junction\, CO\, 81501\, United States
CATEGORIES:Sunday Service
ORGANIZER;CN="CSL Grand Junction":MAILTO:admin@cslgrandjunction.org
END:VEVENT
END:VCALENDAR