BEGIN:VCALENDAR
VERSION:2.0
PRODID:-//Center for Spiritual Living Grand Junction - ECPv6.15.20//NONSGML v1.0//EN
CALSCALE:GREGORIAN
METHOD:PUBLISH
X-ORIGINAL-URL:https://www.cslgj.org
X-WR-CALDESC:Events for Center for Spiritual Living Grand Junction
REFRESH-INTERVAL;VALUE=DURATION:PT1H
X-Robots-Tag:noindex
X-PUBLISHED-TTL:PT1H
BEGIN:VTIMEZONE
TZID:America/Denver
BEGIN:DAYLIGHT
TZOFFSETFROM:-0700
TZOFFSETTO:-0600
TZNAME:MDT
DTSTART:20240310T090000
END:DAYLIGHT
BEGIN:STANDARD
TZOFFSETFROM:-0600
TZOFFSETTO:-0700
TZNAME:MST
DTSTART:20241103T080000
END:STANDARD
BEGIN:DAYLIGHT
TZOFFSETFROM:-0700
TZOFFSETTO:-0600
TZNAME:MDT
DTSTART:20250309T090000
END:DAYLIGHT
BEGIN:STANDARD
TZOFFSETFROM:-0600
TZOFFSETTO:-0700
TZNAME:MST
DTSTART:20251102T080000
END:STANDARD
BEGIN:DAYLIGHT
TZOFFSETFROM:-0700
TZOFFSETTO:-0600
TZNAME:MDT
DTSTART:20260308T090000
END:DAYLIGHT
BEGIN:STANDARD
TZOFFSETFROM:-0600
TZOFFSETTO:-0700
TZNAME:MST
DTSTART:20261101T080000
END:STANDARD
END:VTIMEZONE
BEGIN:VEVENT
DTSTART;VALUE=DATE:20250312
DTEND;VALUE=DATE:20250313
DTSTAMP:20260423T082803
CREATED:20250306T195852Z
LAST-MODIFIED:20250306T195944Z
UID:10000895-1741737600-1741823999@www.cslgj.org
SUMMARY:Centers for Spiritual Living - 2025 Annual Business Meeting on Zoom
DESCRIPTION:Watch from the Center at 491 Sparn or watch from home.\nRegister Today for CSL’s\n2025 Annual Business Meeting\n\n\n\nRegister soon! We are halfway to capacity for the meeting room. We’ll begin each day at 8:30 a.m. PT / 9:30 a.m. MT / 10:30 a.m. CT / 11:30 a.m. ET. \nJoin us for the 2025 Annual Business Meeting on March 12-13\, 2025. It is free to register and open to all members\, practitioners and ministers. Use the Zoom link below to register once and select the sessions you plan to attend. After registering\, you will receive a confirmation email with your unique Zoom link — this same link will grant you access to all selected sessions. \n⚠️ IMPORTANT: Your Zoom link is unique to you. Please SAVE your confirmation email and use the SAME link for ALL sessions you selected. If you lose it\, you will need to re-register. \nWould you like to participate in the meeting but you are unable to attend? Day 2 will include an engagement portion of the program led by CSL’s Spiritual Leader Rev. Dr. Soni Cantrell-Smith. The information gleaned from the engagement session will help CSL evolve and grow with the aim of uplifting our individual communities\, working together to amplify our work in the world. Use the link below to fill out the form and provide your feedback. Responses will be emailed to you if you are able to attend and participate in person. \nTo learn more about the candidates running for open seats in our councils\, visit the Annual Elections page. Candidate bios and interview links are available for review at https://pub.csl.org/e/1087013/2025-annual-elections-/djk25d/1567118762/h/bJ8hvOmoQKrp5Elfm-cPnJCeogI0-M4buC4k9Y7PoqY. Delegate voting will open after the close of the Annual Business Meeting\, and voting will be open for 24 hours. The elected candidates will be announced on March 15.\n\n\n\n\n\n\nZOOM LINK: REGISTER FOR THE ANNUAL MEETING\n\n\n\n\n\n\n\n\n\n\nPARTICIPATE IN THE ENGAGEMENT PORTION OF THE 2025 MEETING\n\n\n\n\n\n\nQuestions? Email Communications@CSL.org
URL:https://www.cslgj.org/event/centers-for-spiritual-living-2025-annual-business-meeting-on-zoom/2025-03-12/
CATEGORIES:Business Meeting
END:VEVENT
BEGIN:VEVENT
DTSTART;TZID=America/Denver:20250312T080000
DTEND;TZID=America/Denver:20250312T170000
DTSTAMP:20260423T082803
CREATED:20250306T192105Z
LAST-MODIFIED:20250306T192105Z
UID:10000834-1741766400-1741798800@www.cslgj.org
SUMMARY:Meditation to Clear and Comfort Your Soul with Cindy Robbins\, RScP & Pat Jacques
DESCRIPTION:Meditation to Clear and Comfort Your Soul \nWith Cindy Robbins\, RScP and Pat Jacques \nWednesday\, March 12th from 5:30 to 7:00 pm \nCome and enjoy a meditation through words and music. \nSuggested Love Offering – $10
URL:https://www.cslgj.org/event/meditation-to-clear-and-comfort-your-soul-with-cindy-robbins-rscp-pat-jacques/
CATEGORIES:Meditation Service
END:VEVENT
END:VCALENDAR