BEGIN:VCALENDAR
VERSION:2.0
PRODID:-//Center for Spiritual Living Grand Junction - ECPv6.15.20//NONSGML v1.0//EN
CALSCALE:GREGORIAN
METHOD:PUBLISH
X-WR-CALNAME:Center for Spiritual Living Grand Junction
X-ORIGINAL-URL:https://www.cslgj.org
X-WR-CALDESC:Events for Center for Spiritual Living Grand Junction
REFRESH-INTERVAL;VALUE=DURATION:PT1H
X-Robots-Tag:noindex
X-PUBLISHED-TTL:PT1H
BEGIN:VTIMEZONE
TZID:America/Denver
BEGIN:DAYLIGHT
TZOFFSETFROM:-0700
TZOFFSETTO:-0600
TZNAME:MDT
DTSTART:20240310T090000
END:DAYLIGHT
BEGIN:STANDARD
TZOFFSETFROM:-0600
TZOFFSETTO:-0700
TZNAME:MST
DTSTART:20241103T080000
END:STANDARD
BEGIN:DAYLIGHT
TZOFFSETFROM:-0700
TZOFFSETTO:-0600
TZNAME:MDT
DTSTART:20250309T090000
END:DAYLIGHT
BEGIN:STANDARD
TZOFFSETFROM:-0600
TZOFFSETTO:-0700
TZNAME:MST
DTSTART:20251102T080000
END:STANDARD
BEGIN:DAYLIGHT
TZOFFSETFROM:-0700
TZOFFSETTO:-0600
TZNAME:MDT
DTSTART:20260308T090000
END:DAYLIGHT
BEGIN:STANDARD
TZOFFSETFROM:-0600
TZOFFSETTO:-0700
TZNAME:MST
DTSTART:20261101T080000
END:STANDARD
END:VTIMEZONE
BEGIN:VEVENT
DTSTART;TZID=America/Denver:20250324T130000
DTEND;TZID=America/Denver:20250324T143000
DTSTAMP:20260423T094700
CREATED:20250317T010845Z
LAST-MODIFIED:20250317T013213Z
UID:10000912-1742821200-1742826600@www.cslgj.org
SUMMARY:PPS - Private Meeting
DESCRIPTION:CS
URL:https://www.cslgj.org/event/pps-private-meeting/
CATEGORIES:Private Meeting
END:VEVENT
BEGIN:VEVENT
DTSTART;TZID=America/Denver:20250324T180000
DTEND;TZID=America/Denver:20250324T200000
DTSTAMP:20260423T094700
CREATED:20250306T185309Z
LAST-MODIFIED:20250306T185457Z
UID:10000766-1742839200-1742846400@www.cslgj.org
SUMMARY:Four Spiritual Laws of Prosperity - Facilitated by Rev. Anna Scott & Rev. Erika Satie
DESCRIPTION:Four Spiritual Laws of Prosperity \nFacilitated by Rev. Anna Scott and Rev. Erika Satie \nFour Mondays beginning on February 17—6-8 pm \nHave you ever felt like there’s more to prosperity than just money—like the flow\nof love\, health\, and joy?  Come and learn about prosperity in the upcoming class.  The investment is $79. You will need the book The Four Spiritual Laws of Prosperity by\nEdwene Gaines and a journal.
URL:https://www.cslgj.org/event/four-spiritual-laws-of-prosperity-facilitated-by-rev-anna-scott-rev-erika-satie-2/2025-03-24/
CATEGORIES:Class
END:VEVENT
END:VCALENDAR