BEGIN:VCALENDAR
VERSION:2.0
PRODID:-//Center for Spiritual Living Grand Junction - ECPv6.15.20//NONSGML v1.0//EN
CALSCALE:GREGORIAN
METHOD:PUBLISH
X-WR-CALNAME:Center for Spiritual Living Grand Junction
X-ORIGINAL-URL:https://www.cslgj.org
X-WR-CALDESC:Events for Center for Spiritual Living Grand Junction
REFRESH-INTERVAL;VALUE=DURATION:PT1H
X-Robots-Tag:noindex
X-PUBLISHED-TTL:PT1H
BEGIN:VTIMEZONE
TZID:America/Denver
BEGIN:DAYLIGHT
TZOFFSETFROM:-0700
TZOFFSETTO:-0600
TZNAME:MDT
DTSTART:20240310T090000
END:DAYLIGHT
BEGIN:STANDARD
TZOFFSETFROM:-0600
TZOFFSETTO:-0700
TZNAME:MST
DTSTART:20241103T080000
END:STANDARD
BEGIN:DAYLIGHT
TZOFFSETFROM:-0700
TZOFFSETTO:-0600
TZNAME:MDT
DTSTART:20250309T090000
END:DAYLIGHT
BEGIN:STANDARD
TZOFFSETFROM:-0600
TZOFFSETTO:-0700
TZNAME:MST
DTSTART:20251102T080000
END:STANDARD
BEGIN:DAYLIGHT
TZOFFSETFROM:-0700
TZOFFSETTO:-0600
TZNAME:MDT
DTSTART:20260308T090000
END:DAYLIGHT
BEGIN:STANDARD
TZOFFSETFROM:-0600
TZOFFSETTO:-0700
TZNAME:MST
DTSTART:20261101T080000
END:STANDARD
END:VTIMEZONE
BEGIN:VEVENT
DTSTART;TZID=America/Denver:20250331T173000
DTEND;TZID=America/Denver:20250331T193000
DTSTAMP:20260423T144217
CREATED:20250306T213406Z
LAST-MODIFIED:20250318T203919Z
UID:10000905-1743442200-1743449400@www.cslgj.org
SUMMARY:Fear to Faith Interactive Meditation with Deb Smith\, RScPE
DESCRIPTION:Fear to Faith Interactive Meditation with Deb Smith\, RScPE \nMonday\, March 31st\, 5:30 to 7:30 pm \nAre you feeling fear\, anger\, or sorrow because of the current state of our politics?  Are you experiencing more stress than usual because of the news?  Are you having difficulty trying to find the truth of what is happening right now? \nCome to this two-hour interactive Fear to Faith Healing Meditation using a whole mind/whole body approach to changing your consciousness.  It has been proven to be highly effective in producing a deep healing effect in the spirit\, mind\, and body of those who use it correctly. \nLove Offering
URL:https://www.cslgj.org/event/fear-to-faith-interactive-meditation-with-deb-smith-rscpe/
CATEGORIES:Meditation Service
END:VEVENT
END:VCALENDAR