BEGIN:VCALENDAR
VERSION:2.0
PRODID:-//Center for Spiritual Living Grand Junction - ECPv6.15.20//NONSGML v1.0//EN
CALSCALE:GREGORIAN
METHOD:PUBLISH
X-ORIGINAL-URL:https://www.cslgj.org
X-WR-CALDESC:Events for Center for Spiritual Living Grand Junction
REFRESH-INTERVAL;VALUE=DURATION:PT1H
X-Robots-Tag:noindex
X-PUBLISHED-TTL:PT1H
BEGIN:VTIMEZONE
TZID:UTC
BEGIN:STANDARD
TZOFFSETFROM:+0000
TZOFFSETTO:+0000
TZNAME:UTC
DTSTART:20240101T000000
END:STANDARD
END:VTIMEZONE
BEGIN:VTIMEZONE
TZID:America/Denver
BEGIN:DAYLIGHT
TZOFFSETFROM:-0700
TZOFFSETTO:-0600
TZNAME:MDT
DTSTART:20240310T090000
END:DAYLIGHT
BEGIN:STANDARD
TZOFFSETFROM:-0600
TZOFFSETTO:-0700
TZNAME:MST
DTSTART:20241103T080000
END:STANDARD
BEGIN:DAYLIGHT
TZOFFSETFROM:-0700
TZOFFSETTO:-0600
TZNAME:MDT
DTSTART:20250309T090000
END:DAYLIGHT
BEGIN:STANDARD
TZOFFSETFROM:-0600
TZOFFSETTO:-0700
TZNAME:MST
DTSTART:20251102T080000
END:STANDARD
BEGIN:DAYLIGHT
TZOFFSETFROM:-0700
TZOFFSETTO:-0600
TZNAME:MDT
DTSTART:20260308T090000
END:DAYLIGHT
BEGIN:STANDARD
TZOFFSETFROM:-0600
TZOFFSETTO:-0700
TZNAME:MST
DTSTART:20261101T080000
END:STANDARD
END:VTIMEZONE
BEGIN:VEVENT
DTSTART;TZID=UTC:20250406T094500
DTEND;TZID=UTC:20250406T101000
DTSTAMP:20260423T114056
CREATED:20250402T025250Z
LAST-MODIFIED:20250402T025250Z
UID:10001005-1743932700-1743934200@www.cslgj.org
SUMMARY:Meditation Service at 9:45 am - In Person and Livestreamed
DESCRIPTION:Meditation Service \nIn Person at CSL Grand Junction located at 491 Sparn Street \nVimeo Livestream link:  https://vimeo.com/event/1232379 \n 
URL:https://www.cslgj.org/event/meditation-service-at-945-am-in-person-and-livestreamed-16/2025-04-06/
LOCATION:CSLGJ\, 491 Sparn Street\, Grand Junction\, CO\, 81501\, United States
CATEGORIES:Meditation Service
ORGANIZER;CN="CSL Grand Junction":MAILTO:admin@cslgrandjunction.org
END:VEVENT
BEGIN:VEVENT
DTSTART;TZID=America/Denver:20250406T103000
DTEND;TZID=America/Denver:20250406T113000
DTSTAMP:20260423T114056
CREATED:20250402T025521Z
LAST-MODIFIED:20250402T025521Z
UID:10001044-1743935400-1743939000@www.cslgj.org
SUMMARY:Sunday Service - "Enriching Our Soil of Possibilities" with Rev. Anna Scott
DESCRIPTION:“Letting Go:  “Enriching Our Soil of Possibilities” with Rev. Anna Scott \nAnnual Theme: Rising Higher\, Growing Deeper\nMonthly Theme: Fertilizing Our Future\nPrayer Practitioner in Service:\nLive Musicians:  Barbara Bellamy\, Hugh Plumleigh and the Fantastic CSL Music Team \nSpecial Guest Artist:  Ellen Stapenhorst \nVimeo link: https://vimeo.com/event/1232379 \nPast Service Videos: https://vimeo.com/cslgj/videos
URL:https://www.cslgj.org/event/sunday-service-enriching-our-soil-of-possibilities-with-rev-anna-scott/
LOCATION:CSLGJ\, 491 Sparn Street\, Grand Junction\, CO\, 81501\, United States
CATEGORIES:Sunday Service
ORGANIZER;CN="CSL Grand Junction":MAILTO:admin@cslgrandjunction.org
END:VEVENT
BEGIN:VEVENT
DTSTART;TZID=America/Denver:20250406T110000
DTEND;TZID=America/Denver:20250406T170000
DTSTAMP:20260423T114056
CREATED:20250402T000508Z
LAST-MODIFIED:20250402T000508Z
UID:10000994-1743937200-1743958800@www.cslgj.org
SUMMARY:Holistic Trade Show - CSLGJ will have a booth
DESCRIPTION:https://www.facebook.com/HolisticTradeShow \nSaturday\, April 5th\, 10:00 am to 6:00 pm \nSunday\, April 6th\, 11:00 am to 5:00 pm \nAt the Convention Center
URL:https://www.cslgj.org/event/holistic-trade-show-cslgj-will-have-a-booth-2/
END:VEVENT
BEGIN:VEVENT
DTSTART;TZID=America/Denver:20250406T123000
DTEND;TZID=America/Denver:20250406T150000
DTSTAMP:20260423T114056
CREATED:20250402T031315Z
LAST-MODIFIED:20250402T031315Z
UID:10001060-1743942600-1743951600@www.cslgj.org
SUMMARY:New Minister Search Committee Meeting - Confidential Meeting
DESCRIPTION:New Minister Search Committee Meeting – Confidential Meeting
URL:https://www.cslgj.org/event/new-minister-search-committee-meeting-confidential-meeting-3/
LOCATION:CSLGJ\, 491 Sparn Street\, Grand Junction\, CO\, 81501\, United States
CATEGORIES:Private Meeting
ORGANIZER;CN="CSL Grand Junction":MAILTO:admin@cslgrandjunction.org
END:VEVENT
END:VCALENDAR