BEGIN:VCALENDAR
VERSION:2.0
PRODID:-//Center for Spiritual Living Grand Junction - ECPv6.15.20//NONSGML v1.0//EN
CALSCALE:GREGORIAN
METHOD:PUBLISH
X-ORIGINAL-URL:https://www.cslgj.org
X-WR-CALDESC:Events for Center for Spiritual Living Grand Junction
REFRESH-INTERVAL;VALUE=DURATION:PT1H
X-Robots-Tag:noindex
X-PUBLISHED-TTL:PT1H
BEGIN:VTIMEZONE
TZID:America/Denver
BEGIN:DAYLIGHT
TZOFFSETFROM:-0700
TZOFFSETTO:-0600
TZNAME:MDT
DTSTART:20240310T090000
END:DAYLIGHT
BEGIN:STANDARD
TZOFFSETFROM:-0600
TZOFFSETTO:-0700
TZNAME:MST
DTSTART:20241103T080000
END:STANDARD
BEGIN:DAYLIGHT
TZOFFSETFROM:-0700
TZOFFSETTO:-0600
TZNAME:MDT
DTSTART:20250309T090000
END:DAYLIGHT
BEGIN:STANDARD
TZOFFSETFROM:-0600
TZOFFSETTO:-0700
TZNAME:MST
DTSTART:20251102T080000
END:STANDARD
BEGIN:DAYLIGHT
TZOFFSETFROM:-0700
TZOFFSETTO:-0600
TZNAME:MDT
DTSTART:20260308T090000
END:DAYLIGHT
BEGIN:STANDARD
TZOFFSETFROM:-0600
TZOFFSETTO:-0700
TZNAME:MST
DTSTART:20261101T080000
END:STANDARD
END:VTIMEZONE
BEGIN:VEVENT
DTSTART;TZID=America/Denver:20250409T173000
DTEND;TZID=America/Denver:20250409T190000
DTSTAMP:20260425T042826
CREATED:20250401T235653Z
LAST-MODIFIED:20250409T203727Z
UID:10000990-1744219800-1744225200@www.cslgj.org
SUMMARY:Meditation:  Peace In Our World
DESCRIPTION:Meditation: Peace in Our World\nTONIGHT\, Wed\, April 9\, 5:30pm\nCome and quiet your mind as we focus on peace…\nwithin ourselves and for our world. Led by Rev. Anna.\nLove offering
URL:https://www.cslgj.org/event/meditation-sampler-more-information-to-follow/
CATEGORIES:Meditation Service
END:VEVENT
END:VCALENDAR