BEGIN:VCALENDAR
VERSION:2.0
PRODID:-//Center for Spiritual Living Grand Junction - ECPv6.15.20//NONSGML v1.0//EN
CALSCALE:GREGORIAN
METHOD:PUBLISH
X-WR-CALNAME:Center for Spiritual Living Grand Junction
X-ORIGINAL-URL:https://www.cslgj.org
X-WR-CALDESC:Events for Center for Spiritual Living Grand Junction
REFRESH-INTERVAL;VALUE=DURATION:PT1H
X-Robots-Tag:noindex
X-PUBLISHED-TTL:PT1H
BEGIN:VTIMEZONE
TZID:UTC
BEGIN:STANDARD
TZOFFSETFROM:+0000
TZOFFSETTO:+0000
TZNAME:UTC
DTSTART:20240101T000000
END:STANDARD
END:VTIMEZONE
BEGIN:VTIMEZONE
TZID:America/Denver
BEGIN:DAYLIGHT
TZOFFSETFROM:-0700
TZOFFSETTO:-0600
TZNAME:MDT
DTSTART:20240310T090000
END:DAYLIGHT
BEGIN:STANDARD
TZOFFSETFROM:-0600
TZOFFSETTO:-0700
TZNAME:MST
DTSTART:20241103T080000
END:STANDARD
BEGIN:DAYLIGHT
TZOFFSETFROM:-0700
TZOFFSETTO:-0600
TZNAME:MDT
DTSTART:20250309T090000
END:DAYLIGHT
BEGIN:STANDARD
TZOFFSETFROM:-0600
TZOFFSETTO:-0700
TZNAME:MST
DTSTART:20251102T080000
END:STANDARD
BEGIN:DAYLIGHT
TZOFFSETFROM:-0700
TZOFFSETTO:-0600
TZNAME:MDT
DTSTART:20260308T090000
END:DAYLIGHT
BEGIN:STANDARD
TZOFFSETFROM:-0600
TZOFFSETTO:-0700
TZNAME:MST
DTSTART:20261101T080000
END:STANDARD
END:VTIMEZONE
BEGIN:VEVENT
DTSTART;TZID=UTC:20250413T094500
DTEND;TZID=UTC:20250413T101000
DTSTAMP:20260423T082550
CREATED:20250402T025250Z
LAST-MODIFIED:20250402T025250Z
UID:10001006-1744537500-1744539000@www.cslgj.org
SUMMARY:Meditation Service at 9:45 am - In Person and Livestreamed
DESCRIPTION:Meditation Service \nIn Person at CSL Grand Junction located at 491 Sparn Street \nVimeo Livestream link:  https://vimeo.com/event/1232379 \n 
URL:https://www.cslgj.org/event/meditation-service-at-945-am-in-person-and-livestreamed-16/2025-04-13/
LOCATION:CSLGJ\, 491 Sparn Street\, Grand Junction\, CO\, 81501\, United States
CATEGORIES:Meditation Service
ORGANIZER;CN="CSL Grand Junction":MAILTO:admin@cslgrandjunction.org
END:VEVENT
BEGIN:VEVENT
DTSTART;TZID=America/Denver:20250413T103000
DTEND;TZID=America/Denver:20250413T113000
DTSTAMP:20260423T082550
CREATED:20250402T025919Z
LAST-MODIFIED:20250402T025919Z
UID:10001045-1744540200-1744543800@www.cslgj.org
SUMMARY:Sunday Service - "Beyond The Horizon" with Rev. Anna Scott
DESCRIPTION:“Letting Go:  “Beyond The Horizon” with Rev. Anna Scott \nAnnual Theme: Rising Higher\, Growing Deeper\nMonthly Theme: Fertilizing Our Future\nPrayer Practitioner in Service:\nLive Musicians:  Barbara Bellamy\, Hugh Plumleigh and the Fantastic CSL Music Team \nSpecial Guest Artist:  Victoria Amada \nVimeo link: https://vimeo.com/event/1232379 \nPast Service Videos: https://vimeo.com/cslgj/videos
URL:https://www.cslgj.org/event/sunday-service-beyond-the-horizon-with-rev-anna-scott/
LOCATION:CSLGJ\, 491 Sparn Street\, Grand Junction\, CO\, 81501\, United States
CATEGORIES:Sunday Service
ORGANIZER;CN="CSL Grand Junction":MAILTO:admin@cslgrandjunction.org
END:VEVENT
BEGIN:VEVENT
DTSTART;TZID=America/Denver:20250413T123000
DTEND;TZID=America/Denver:20250413T143000
DTSTAMP:20260423T082550
CREATED:20250402T024605Z
LAST-MODIFIED:20250409T204104Z
UID:10001002-1744547400-1744554600@www.cslgj.org
SUMMARY:New Minister Intentionality Meeting and Ice Cream Social
DESCRIPTION:New Minister Intentionality Workshop and Ice Cream Social \nSunday\, April 13th\, 12:30 pm to 2:30 pm \n\n\nJoin us for a powerful and inspiring gathering as we come together to explore our collective \n\n\nvision for the next spiritual leader of Center for Spiritual Living Grand Junction! \n\n\n\n\n“New Minister Intentionality” is a special workshop facilitated by Reverend Anna and Pat \n\n\nJacques\, designed to help us align with the highest and best for our community. Through \n\n\nmeditation\, journaling\, and deep exploration\, we will open our hearts and minds to the \n\n\npossibilities before us. This is an opportunity to share our vision\, our desires\, and even our \n\n\nwildest dreams for the qualities and presence of our next minister. \n\n\n\n\nYour voice\, energy\, and intention matter. The more we come together in clarity and faith\, the \n\n\nmore we create the perfect space to welcome our new spiritual leader. \n\n\n 
URL:https://www.cslgj.org/event/new-minister-intentionality-meeting-and-ice-cream-social/
CATEGORIES:Community Events
END:VEVENT
END:VCALENDAR