BEGIN:VCALENDAR
VERSION:2.0
PRODID:-//Center for Spiritual Living Grand Junction - ECPv6.15.20//NONSGML v1.0//EN
CALSCALE:GREGORIAN
METHOD:PUBLISH
X-WR-CALNAME:Center for Spiritual Living Grand Junction
X-ORIGINAL-URL:https://www.cslgj.org
X-WR-CALDESC:Events for Center for Spiritual Living Grand Junction
REFRESH-INTERVAL;VALUE=DURATION:PT1H
X-Robots-Tag:noindex
X-PUBLISHED-TTL:PT1H
BEGIN:VTIMEZONE
TZID:America/Denver
BEGIN:DAYLIGHT
TZOFFSETFROM:-0700
TZOFFSETTO:-0600
TZNAME:MDT
DTSTART:20240310T090000
END:DAYLIGHT
BEGIN:STANDARD
TZOFFSETFROM:-0600
TZOFFSETTO:-0700
TZNAME:MST
DTSTART:20241103T080000
END:STANDARD
BEGIN:DAYLIGHT
TZOFFSETFROM:-0700
TZOFFSETTO:-0600
TZNAME:MDT
DTSTART:20250309T090000
END:DAYLIGHT
BEGIN:STANDARD
TZOFFSETFROM:-0600
TZOFFSETTO:-0700
TZNAME:MST
DTSTART:20251102T080000
END:STANDARD
BEGIN:DAYLIGHT
TZOFFSETFROM:-0700
TZOFFSETTO:-0600
TZNAME:MDT
DTSTART:20260308T090000
END:DAYLIGHT
BEGIN:STANDARD
TZOFFSETFROM:-0600
TZOFFSETTO:-0700
TZNAME:MST
DTSTART:20261101T080000
END:STANDARD
END:VTIMEZONE
BEGIN:VEVENT
DTSTART;TZID=America/Denver:20250414T183000
DTEND;TZID=America/Denver:20250414T200000
DTSTAMP:20260423T131149
CREATED:20250402T000731Z
LAST-MODIFIED:20250402T000731Z
UID:10000995-1744655400-1744660800@www.cslgj.org
SUMMARY:Sacred Drum Circle with Esther Shapiro
DESCRIPTION:Sacred Drum Circle with Esther Shapiro \nMonday\, April 14th \n6:30-8:00 pm \nLet’s drum together for the Full Pink Moon\, named for the time of year when flowers blossom.    Bring your own drum\, rattle\, or other percussion instrument\, or join others around Grandmother Drum and synchronize with its “heartbeat.” \nSuggested Love Offering – $20
URL:https://www.cslgj.org/event/sacred-drum-circle-with-esther-shapiro-5/
LOCATION:CSLGJ\, 491 Sparn Street\, Grand Junction\, CO\, 81501\, United States
CATEGORIES:Community Events
ORGANIZER;CN="CSL Grand Junction":MAILTO:admin@cslgrandjunction.org
END:VEVENT
END:VCALENDAR