BEGIN:VCALENDAR
VERSION:2.0
PRODID:-//Center for Spiritual Living Grand Junction - ECPv6.15.20//NONSGML v1.0//EN
CALSCALE:GREGORIAN
METHOD:PUBLISH
X-WR-CALNAME:Center for Spiritual Living Grand Junction
X-ORIGINAL-URL:https://www.cslgj.org
X-WR-CALDESC:Events for Center for Spiritual Living Grand Junction
REFRESH-INTERVAL;VALUE=DURATION:PT1H
X-Robots-Tag:noindex
X-PUBLISHED-TTL:PT1H
BEGIN:VTIMEZONE
TZID:America/Denver
BEGIN:DAYLIGHT
TZOFFSETFROM:-0700
TZOFFSETTO:-0600
TZNAME:MDT
DTSTART:20240310T090000
END:DAYLIGHT
BEGIN:STANDARD
TZOFFSETFROM:-0600
TZOFFSETTO:-0700
TZNAME:MST
DTSTART:20241103T080000
END:STANDARD
BEGIN:DAYLIGHT
TZOFFSETFROM:-0700
TZOFFSETTO:-0600
TZNAME:MDT
DTSTART:20250309T090000
END:DAYLIGHT
BEGIN:STANDARD
TZOFFSETFROM:-0600
TZOFFSETTO:-0700
TZNAME:MST
DTSTART:20251102T080000
END:STANDARD
BEGIN:DAYLIGHT
TZOFFSETFROM:-0700
TZOFFSETTO:-0600
TZNAME:MDT
DTSTART:20260308T090000
END:DAYLIGHT
BEGIN:STANDARD
TZOFFSETFROM:-0600
TZOFFSETTO:-0700
TZNAME:MST
DTSTART:20261101T080000
END:STANDARD
END:VTIMEZONE
BEGIN:VEVENT
DTSTART;TZID=America/Denver:20250208T093000
DTEND;TZID=America/Denver:20250208T130000
DTSTAMP:20260424T095638
CREATED:20250205T022719Z
LAST-MODIFIED:20250205T022738Z
UID:10000820-1739007000-1739019600@www.cslgj.org
SUMMARY:AED/CPR Training
DESCRIPTION:AED/CPR Training \nSaturday\, February 8th from 9:30 to 1:30 pm
URL:https://www.cslgj.org/event/aed-cpr-training/
CATEGORIES:Business Meeting
END:VEVENT
BEGIN:VEVENT
DTSTART;TZID=America/Denver:20250220T100000
DTEND;TZID=America/Denver:20250220T130000
DTSTAMP:20260424T095638
CREATED:20241111T004924Z
LAST-MODIFIED:20241111T004924Z
UID:10000473-1740045600-1740056400@www.cslgj.org
SUMMARY:Leadership Council Business Meeting
DESCRIPTION:Leadership Council Business Meeting \nSpiritual Leader:  Rev. Anna Scott \nPresident:  Deb Smith\, RScPE \nVice President:  Pat Jacques \nTreasurer:  Sherri Roberts \nSecretary:  Patty Orin\, RScP \nAt Large:  Rev. Sheryl Rogers \nYour Leadership Council has monthly Business Meetings to take care of CSLGJ business.  Guests are welcome as observers only.  You will have 5 minutes at the end of the meeting if you have any comments or questions. \n 
URL:https://www.cslgj.org/event/leadership-council-business-meeting-2/
LOCATION:CSLGJ\, 491 Sparn Street\, Grand Junction\, CO\, 81501\, United States
CATEGORIES:Business Meeting
ORGANIZER;CN="CSL Grand Junction":MAILTO:admin@cslgrandjunction.org
END:VEVENT
BEGIN:VEVENT
DTSTART;TZID=America/Denver:20250223T123000
DTEND;TZID=America/Denver:20250223T170000
DTSTAMP:20260424T095638
CREATED:20241121T192002Z
LAST-MODIFIED:20241121T192002Z
UID:10000665-1740313800-1740330000@www.cslgj.org
SUMMARY:New Minister Search Committee - Private Meeting
DESCRIPTION:New Minister Search Committee Meeting \nPrivate Meeting \n12:30 until finished
URL:https://www.cslgj.org/event/new-minister-search-committee-private-meeting/
LOCATION:CSLGJ\, 491 Sparn Street\, Grand Junction\, CO\, 81501\, United States
CATEGORIES:Business Meeting
ORGANIZER;CN="CSL Grand Junction":MAILTO:admin@cslgrandjunction.org
END:VEVENT
END:VCALENDAR